BEGIN:VCALENDAR
VERSION:2.0
PRODID:-//Somas Activia - ECPv6.15.17//NONSGML v1.0//EN
CALSCALE:GREGORIAN
METHOD:PUBLISH
X-ORIGINAL-URL:https://activia.tv
X-WR-CALDESC:Evenementen voor Somas Activia
REFRESH-INTERVAL;VALUE=DURATION:PT1H
X-Robots-Tag:noindex
X-PUBLISHED-TTL:PT1H
BEGIN:VTIMEZONE
TZID:UTC
BEGIN:STANDARD
TZOFFSETFROM:+0000
TZOFFSETTO:+0000
TZNAME:UTC
DTSTART:20240101T000000
END:STANDARD
END:VTIMEZONE
BEGIN:VEVENT
DTSTART;TZID=UTC:20251206T193000
DTEND;TZID=UTC:20251206T213000
DTSTAMP:20260420T130312
CREATED:20251124T192909Z
LAST-MODIFIED:20251124T192909Z
UID:2053-1765049400-1765056600@activia.tv
SUMMARY:Wedstrijd D1 Eredivisie vs Apollo 8
DESCRIPTION:
URL:https://activia.tv/dienst/wedstrijd-d1-eredivisie-vs-apollo-8/
CATEGORIES:Activiateiten,Diensten
END:VEVENT
END:VCALENDAR